BEGIN:VCALENDAR
VERSION:2.0
PRODID:-//The Australiana Pioneer Village - ECPv5.3.2.1//NONSGML v1.0//EN
CALSCALE:GREGORIAN
METHOD:PUBLISH
X-WR-CALNAME:The Australiana Pioneer Village
X-ORIGINAL-URL:https://www.theapv.org.au
X-WR-CALDESC:Events for The Australiana Pioneer Village
BEGIN:VTIMEZONE
TZID:Australia/Sydney
BEGIN:STANDARD
TZOFFSETFROM:+1100
TZOFFSETTO:+1000
TZNAME:AEST
DTSTART:20210403T160000
END:STANDARD
BEGIN:DAYLIGHT
TZOFFSETFROM:+1000
TZOFFSETTO:+1100
TZNAME:AEDT
DTSTART:20211002T160000
END:DAYLIGHT
END:VTIMEZONE
BEGIN:VEVENT
DTSTART;TZID=Australia/Sydney:20210110T100000
DTEND;TZID=Australia/Sydney:20210110T160000
DTSTAMP:20210227T054700
CREATED:20201214T082304Z
LAST-MODIFIED:20210106T221653Z
UID:3154-1610272800-1610294400@www.theapv.org.au
SUMMARY:10TH JANUARY 2021 - VILLAGE RE-OPENED
DESCRIPTION:THE AUSTRALIANA PIONEER VILLAGE WILL RE-OPEN TODAY  \n10th January 2021 at 10.00am \nTHEME:  WATER PLAY \nCome along and join in the fun\, children bring a towel  \nWater Wall \nWater Arch \nSponge Toss \nBall Toss \nBoats \nBalloon Pinata \nSandpit \nSlip & Slides \nWater Pistols \nWading Pools \nBubbles \nRubber Ducks – fishing \nWater Games
URL:https://www.theapv.org.au/event/10th-january-2021-village-re-opened/
LOCATION:The Australiana Pioneer Village\, Australiana Pioneer Village\, Rose Street\, Wilberforce\, NSW\, 2756
ORGANIZER;CN="Events%20Coordinator":MAILTO:events@theapv.org.au
END:VEVENT
END:VCALENDAR